BEGIN:VCALENDAR
VERSION:2.0
PRODID:-//Self-Realization Fellowship Lake Shrine - ECPv6.15.11//NONSGML v1.0//EN
CALSCALE:GREGORIAN
METHOD:PUBLISH
X-WR-CALNAME:Self-Realization Fellowship Lake Shrine
X-ORIGINAL-URL:https://lakeshrine.org
X-WR-CALDESC:Events for Self-Realization Fellowship Lake Shrine
REFRESH-INTERVAL;VALUE=DURATION:PT1H
X-Robots-Tag:noindex
X-PUBLISHED-TTL:PT1H
BEGIN:VTIMEZONE
TZID:America/Los_Angeles
BEGIN:DAYLIGHT
TZOFFSETFROM:-0800
TZOFFSETTO:-0700
TZNAME:PDT
DTSTART:20220313T100000
END:DAYLIGHT
BEGIN:STANDARD
TZOFFSETFROM:-0700
TZOFFSETTO:-0800
TZNAME:PST
DTSTART:20221106T090000
END:STANDARD
BEGIN:DAYLIGHT
TZOFFSETFROM:-0800
TZOFFSETTO:-0700
TZNAME:PDT
DTSTART:20230312T100000
END:DAYLIGHT
BEGIN:STANDARD
TZOFFSETFROM:-0700
TZOFFSETTO:-0800
TZNAME:PST
DTSTART:20231105T090000
END:STANDARD
BEGIN:DAYLIGHT
TZOFFSETFROM:-0800
TZOFFSETTO:-0700
TZNAME:PDT
DTSTART:20240310T100000
END:DAYLIGHT
BEGIN:STANDARD
TZOFFSETFROM:-0700
TZOFFSETTO:-0800
TZNAME:PST
DTSTART:20241103T090000
END:STANDARD
BEGIN:DAYLIGHT
TZOFFSETFROM:-0800
TZOFFSETTO:-0700
TZNAME:PDT
DTSTART:20250309T100000
END:DAYLIGHT
BEGIN:STANDARD
TZOFFSETFROM:-0700
TZOFFSETTO:-0800
TZNAME:PST
DTSTART:20251102T090000
END:STANDARD
END:VTIMEZONE
BEGIN:VEVENT
DTSTART;VALUE=DATE:20241215
DTEND;VALUE=DATE:20241216
DTSTAMP:20260420T185812
CREATED:20241104T204214Z
LAST-MODIFIED:20241114T215933Z
UID:16427-1734220800-1734307199@lakeshrine.org
SUMMARY:Foster Children Christmas Gift Drive
DESCRIPTION:Today is the last day of our Lake Shrine Holiday Drive for Gifts for Children in Foster Care! \nWe thank all those who participated in this beautiful Lake Shrine Christmas tradition! \n  \n 
URL:https://lakeshrine.org/event/foster-children-christmas-gift-drive-5/
LOCATION:Lake Shrine Temple\, Lake Shrine 17080 Sunset Blvd.\, Pacific Palisades\, CA\, 90272\, United States
CATEGORIES:Other Events
END:VEVENT
BEGIN:VEVENT
DTSTART;VALUE=DATE:20241208
DTEND;VALUE=DATE:20241209
DTSTAMP:20260420T185812
CREATED:20241104T204020Z
LAST-MODIFIED:20241114T215034Z
UID:16425-1733616000-1733702399@lakeshrine.org
SUMMARY:Foster Children Christmas Gift Drive
DESCRIPTION:Our Lake Shrine Holiday Drive for Gifts for Children in Foster Care is ongoing! \nPlease join us in bringing Christmas cheer to a needy child. \nTo participate\, please see the volunteers in the lobby \n 
URL:https://lakeshrine.org/event/foster-children-christmas-gift-drive-4/
LOCATION:Lake Shrine Temple\, Lake Shrine 17080 Sunset Blvd.\, Pacific Palisades\, CA\, 90272\, United States
CATEGORIES:Other Events
END:VEVENT
BEGIN:VEVENT
DTSTART;VALUE=DATE:20241201
DTEND;VALUE=DATE:20241202
DTSTAMP:20260420T185812
CREATED:20241104T203947Z
LAST-MODIFIED:20241115T223059Z
UID:16423-1733011200-1733097599@lakeshrine.org
SUMMARY:Foster Children Christmas Gift Drive
DESCRIPTION:Our Lake Shrine Holiday Drive for Gifts for Children in Foster Care is ongoing! \nPlease join us in bringing Christmas cheer to a needy child. \nTo participate\, please see the volunteers in the lobby \n 
URL:https://lakeshrine.org/event/foster-children-christmas-gift-drive-3/
LOCATION:Lake Shrine Temple\, Lake Shrine 17080 Sunset Blvd.\, Pacific Palisades\, CA\, 90272\, United States
CATEGORIES:Other Events
END:VEVENT
BEGIN:VEVENT
DTSTART;TZID=America/Los_Angeles:20241125T190000
DTEND;TZID=America/Los_Angeles:20241125T200000
DTSTAMP:20260420T185812
CREATED:20241006T230241Z
LAST-MODIFIED:20241104T204931Z
UID:16339-1732561200-1732564800@lakeshrine.org
SUMMARY:Interfaith Thanksgiving Service hosted by Corpus Christi Parish
DESCRIPTION:Every year\, just before Thanksgiving\, the churches\, temples and synagogues of Pacific Palisades offer an interfaith service for the community and all congregations.  For this year’s event information\, please click here \n  \n 
URL:https://lakeshrine.org/event/interfaith-thanksgiving-service-2/
LOCATION:Corpus Christi Church\, 880 Toyopa Drive\, Pacific Palisades\, United States
CATEGORIES:Other Events
END:VEVENT
BEGIN:VEVENT
DTSTART;VALUE=DATE:20241124
DTEND;VALUE=DATE:20241125
DTSTAMP:20260420T185812
CREATED:20241104T203245Z
LAST-MODIFIED:20241114T213330Z
UID:16412-1732406400-1732492799@lakeshrine.org
SUMMARY:Foster Children Christmas Gift Drive
DESCRIPTION:Our Lake Shrine Holiday Drive for Gifts for Children in Foster Care is ongoing! \nPlease join us in bringing Christmas cheer to a needy child. \nTo participate\, please see the volunteers in the lobby \n 
URL:https://lakeshrine.org/event/foster-children-christmas-gift-drive/
LOCATION:Lake Shrine Temple\, Lake Shrine 17080 Sunset Blvd.\, Pacific Palisades\, CA\, 90272\, United States
CATEGORIES:Other Events
END:VEVENT
BEGIN:VEVENT
DTSTART;VALUE=DATE:20241117
DTEND;VALUE=DATE:20241118
DTSTAMP:20260420T185812
CREATED:20241104T203855Z
LAST-MODIFIED:20241114T212700Z
UID:16421-1731801600-1731887999@lakeshrine.org
SUMMARY:Foster Children Christmas Gift Drive
DESCRIPTION:Our Lake Shrine Holiday drive for Gifts for Children in Foster Care starts today! \nPlease join us in bringing Christmas cheer to a needy child. \nTo participate\, please see the volunteers in the lobby \n 
URL:https://lakeshrine.org/event/foster-children-christmas-gift-drive-2/
LOCATION:Lake Shrine Temple\, Lake Shrine 17080 Sunset Blvd.\, Pacific Palisades\, CA\, 90272\, United States
CATEGORIES:Other Events
END:VEVENT
BEGIN:VEVENT
DTSTART;TZID=America/Los_Angeles:20240924T190000
DTEND;TZID=America/Los_Angeles:20240924T210000
DTSTAMP:20260420T185812
CREATED:20240806T030318Z
LAST-MODIFIED:20240806T030318Z
UID:16216-1727204400-1727211600@lakeshrine.org
SUMMARY:Lake Shrine Kriyaban Disciples will not be held today
DESCRIPTION:  \n  \n  \nParamahansa Yogananda\, photographed on August 20\, 1950\, at the dedication of Self-Realization Fellowship Lake Shrine\, Pacific Palisades\, CA. \n  \n  \n 
URL:https://lakeshrine.org/event/lake-shrine-kriyaban-disciples-8-3/
LOCATION:CA
CATEGORIES:Meditations & Inspirational Services,Minister-led Events,Other Events
END:VEVENT
BEGIN:VEVENT
DTSTART;TZID=America/Los_Angeles:20240827T190000
DTEND;TZID=America/Los_Angeles:20240827T210000
DTSTAMP:20260420T185812
CREATED:20240112T183219Z
LAST-MODIFIED:20240112T183219Z
UID:15420-1724785200-1724792400@lakeshrine.org
SUMMARY:Kriyaban Disciples - Summer Recess
DESCRIPTION:
URL:https://lakeshrine.org/event/lake-shrine-kriyaban-disciples-9/
LOCATION:CA
CATEGORIES:Meditations & Inspirational Services,Other Events
END:VEVENT
BEGIN:VEVENT
DTSTART;TZID=America/Los_Angeles:20240723T190000
DTEND;TZID=America/Los_Angeles:20240723T210000
DTSTAMP:20260420T185812
CREATED:20240614T225117Z
LAST-MODIFIED:20240614T225117Z
UID:16092-1721761200-1721768400@lakeshrine.org
SUMMARY:Lake Shrine Kriyaban Disciples Recess!
DESCRIPTION:  \nWe are on Summer Recess!  Join us at Convocation! \n  \nParamahansa Yogananda\, photographed on August 20\, 1950\, at the dedication of Self-Realization Fellowship Lake Shrine\, Pacific Palisades\, CA. \n  \n  \n 
URL:https://lakeshrine.org/event/lake-shrine-kriyaban-disciples-8-2/
LOCATION:CA
CATEGORIES:Meditations & Inspirational Services,Minister-led Events,Other Events
END:VEVENT
BEGIN:VEVENT
DTSTART;TZID=America/Los_Angeles:20240616T121500
DTEND;TZID=America/Los_Angeles:20240616T133000
DTSTAMP:20260420T185812
CREATED:20240506T213548Z
LAST-MODIFIED:20240506T213548Z
UID:15853-1718540100-1718544600@lakeshrine.org
SUMMARY:Docent Tour (Saints Tour)
DESCRIPTION:Enjoy anecdotes and incidents in the lives of the Saints of all religions honored around the Lake.\nThe tour starts at 12:15 PM at the gate at the bottom of the stairs going to the Lake.\nBring your friends!  Join us!
URL:https://lakeshrine.org/event/docent-tour-saints-tour-2/
LOCATION:Lake Shrine\, Lake Shrine 17190 Sunset Blvd.\, Pacific Palisades\, CA\, 90272\, United States
CATEGORIES:Other Events
END:VEVENT
BEGIN:VEVENT
DTSTART;TZID=America/Los_Angeles:20240519T121500
DTEND;TZID=America/Los_Angeles:20240519T133000
DTSTAMP:20260420T185812
CREATED:20240416T192114Z
LAST-MODIFIED:20240416T192114Z
UID:15756-1716120900-1716125400@lakeshrine.org
SUMMARY:Docent Tour (Saints Tour)
DESCRIPTION:  \n\nEnjoy anecdotes and incidents in the lives of the Saints of all religions honored around the Lake.\nThe tour starts at 12:15 PM at the gate at the bottom of the stairs going to the Lake.
URL:https://lakeshrine.org/event/docent-tour-saints-tour/
LOCATION:Lake Shrine\, Lake Shrine 17190 Sunset Blvd.\, Pacific Palisades\, CA\, 90272\, United States
CATEGORIES:Other Events
END:VEVENT
BEGIN:VEVENT
DTSTART;TZID=America/Los_Angeles:20240423T190000
DTEND;TZID=America/Los_Angeles:20240423T210000
DTSTAMP:20260420T185812
CREATED:20240117T220726Z
LAST-MODIFIED:20240302T192801Z
UID:15461-1713898800-1713906000@lakeshrine.org
SUMMARY:Lake Shrine Kriyaban Disciples - CANCELLED
DESCRIPTION:
URL:https://lakeshrine.org/event/lake-shrine-kriyaban-disciples-12/
LOCATION:CA
CATEGORIES:Meditations & Inspirational Services,Other Events
END:VEVENT
BEGIN:VEVENT
DTSTART;TZID=America/Los_Angeles:20240211T123000
DTEND;TZID=America/Los_Angeles:20240211T140000
DTSTAMP:20260420T185812
CREATED:20240119T195137Z
LAST-MODIFIED:20240119T195137Z
UID:15496-1707654600-1707660000@lakeshrine.org
SUMMARY:Young Adults Meeting
DESCRIPTION:For generations 20-40 years of age.  Gatherings take place on the Second Sunday of the month\, after the morning services.  Themes and topics are shared by newsletter that include other activities and announcements.
URL:https://lakeshrine.org/event/young-adults-meeting-8/
LOCATION:CA
CATEGORIES:Other Events
END:VEVENT
BEGIN:VEVENT
DTSTART;TZID=America/Los_Angeles:20240413T190000
DTEND;TZID=America/Los_Angeles:20240413T210000
DTSTAMP:20260420T185812
CREATED:20240223T194640Z
LAST-MODIFIED:20240327T160242Z
UID:15628-1713034800-1713042000@lakeshrine.org
SUMMARY:The Lake Shrine Men's Group
DESCRIPTION:The Lake Shrine Men’s Group is sponsoring an evening monastic-led meditation for men of our congregation.  The meditation will take place in the Windmill Chapel from 7:00pm to 9:00pm. Lake level gate opens for entry at 6:15pm.  Information:  lakeshrinemen@gmail.com
URL:https://lakeshrine.org/event/the-lake-shrine-mens-group/
LOCATION:Lake Shrine Temple\, Lake Shrine 17080 Sunset Blvd.\, Pacific Palisades\, CA\, 90272\, United States
CATEGORIES:Other Events
END:VEVENT
BEGIN:VEVENT
DTSTART;TZID=America/Los_Angeles:20240326T190000
DTEND;TZID=America/Los_Angeles:20240326T210000
DTSTAMP:20260420T185812
CREATED:20240117T220841Z
LAST-MODIFIED:20240223T195331Z
UID:15463-1711479600-1711486800@lakeshrine.org
SUMMARY:Lake Shrine Kriyaban Disciples
DESCRIPTION:All Lake Shrine Kriyabans are invited. This event will be held Windmill Chapel.
URL:https://lakeshrine.org/event/lake-shrine-kriyaban-disciples-13/
LOCATION:CA
CATEGORIES:Meditations & Inspirational Services,Other Events
END:VEVENT
BEGIN:VEVENT
DTSTART;TZID=America/Los_Angeles:20240310T123000
DTEND;TZID=America/Los_Angeles:20240310T140000
DTSTAMP:20260420T185812
CREATED:20240308T235927Z
LAST-MODIFIED:20240308T235928Z
UID:15652-1710073800-1710079200@lakeshrine.org
SUMMARY:Young Adults Meeting
DESCRIPTION:Are you in the under-40 Young Adult generation? Do you feel attracted toward pursuing the teachings of Paramahansa Yogananda and discovering new ways to live a spiritual life? Join us for a Panel Discussion today\, at 12:30 PM in the Special Events Room.
URL:https://lakeshrine.org/event/young-adults-meeting-8-2/
LOCATION:CA
CATEGORIES:Other Events
END:VEVENT
BEGIN:VEVENT
DTSTART;TZID=America/Los_Angeles:20240227T190000
DTEND;TZID=America/Los_Angeles:20240227T210000
DTSTAMP:20260420T185812
CREATED:20240117T215458Z
LAST-MODIFIED:20240118T233903Z
UID:15457-1709060400-1709067600@lakeshrine.org
SUMMARY:Lake Shrine Kriyaban Disciples
DESCRIPTION:All Lake Shrine Kriyabans are invited. This event will be held via Zoom.
URL:https://lakeshrine.org/event/lake-shrine-kriyaban-disciples-11/
LOCATION:CA
CATEGORIES:Meditations & Inspirational Services,Other Events
END:VEVENT
BEGIN:VEVENT
DTSTART;TZID=America/Los_Angeles:20240211T123000
DTEND;TZID=America/Los_Angeles:20240211T140000
DTSTAMP:20260420T185812
CREATED:20240119T195137Z
LAST-MODIFIED:20240119T195137Z
UID:15496-1707654600-1707660000@lakeshrine.org
SUMMARY:Young Adults Meeting
DESCRIPTION:For generations 20-40 years of age.  Gatherings take place on the Second Sunday of the month\, after the morning services.  Themes and topics are shared by newsletter that include other activities and announcements.
URL:https://lakeshrine.org/event/young-adults-meeting-8/
LOCATION:CA
CATEGORIES:Other Events
END:VEVENT
BEGIN:VEVENT
DTSTART;TZID=America/Los_Angeles:20240123T190000
DTEND;TZID=America/Los_Angeles:20240123T210000
DTSTAMP:20260420T185812
CREATED:20240117T215123Z
LAST-MODIFIED:20240120T171759Z
UID:15453-1706036400-1706043600@lakeshrine.org
SUMMARY:Lake Shrine Kriyaban Disciples
DESCRIPTION:Our first Lake Shrine Kriyaban event of 2024 will be on Tuesday evening\, January 23 in our Temple sanctuary at 7 PM. Kriya cards will be required for entry. Come and join with other disciples to launch into the New Year with Kriya Yoga!
URL:https://lakeshrine.org/event/lake-shrine-kriyaban-disciples-10/
LOCATION:CA
CATEGORIES:Meditations & Inspirational Services,Other Events
END:VEVENT
BEGIN:VEVENT
DTSTART;TZID=America/Los_Angeles:20230903T123000
DTEND;TZID=America/Los_Angeles:20230903T133000
DTSTAMP:20260420T185812
CREATED:20230315T182657Z
LAST-MODIFIED:20230406T180713Z
UID:13645-1693744200-1693747800@lakeshrine.org
SUMMARY:Young Adults Meeting
DESCRIPTION:For generations 20-40 years of age.  Gatherings take place on the first Sunday of the month\, after the morning services.  Themes and topics are shared by newsletter that include other activities and announcements. Meeting held in the Temple\, Special Events Room.
URL:https://lakeshrine.org/event/young-adults-meeting/
LOCATION:CA
CATEGORIES:Other Events
END:VEVENT
BEGIN:VEVENT
DTSTART;TZID=America/Los_Angeles:20231112T123000
DTEND;TZID=America/Los_Angeles:20231112T133000
DTSTAMP:20260420T185812
CREATED:20230406T183521Z
LAST-MODIFIED:20231026T165045Z
UID:13989-1699792200-1699795800@lakeshrine.org
SUMMARY:Young Adults Meeting
DESCRIPTION:For generations 20-40 years of age.  Gatherings take place on the first Sunday of the month\, after the morning services.  Themes and topics are shared by newsletter that include other activities and announcements. Meeting will be held at 12:30pm in the Sunken Garden at the Lake level.
URL:https://lakeshrine.org/event/young-adults-meeting-3/
LOCATION:Lake Shrine Temple\, Lake Shrine 17080 Sunset Blvd.\, Pacific Palisades\, CA\, 90272\, United States
CATEGORIES:Other Events
END:VEVENT
BEGIN:VEVENT
DTSTART;TZID=America/Los_Angeles:20231028T163000
DTEND;TZID=America/Los_Angeles:20231028T190000
DTSTAMP:20260420T185812
CREATED:20230401T213152Z
LAST-MODIFIED:20230401T213342Z
UID:13981-1698510600-1698519600@lakeshrine.org
SUMMARY:Sunday School Family Night
DESCRIPTION:
URL:https://lakeshrine.org/event/sunday-school-family-night/
LOCATION:Lake Shrine Temple\, Lake Shrine 17080 Sunset Blvd.\, Pacific Palisades\, CA\, 90272\, United States
CATEGORIES:Other Events
END:VEVENT
BEGIN:VEVENT
DTSTART;TZID=America/Los_Angeles:20231024T190000
DTEND;TZID=America/Los_Angeles:20231024T210000
DTSTAMP:20260420T185812
CREATED:20231018T210555Z
LAST-MODIFIED:20231018T210917Z
UID:15166-1698174000-1698181200@lakeshrine.org
SUMMARY:Lake Shrine Kriyaban Disciples
DESCRIPTION:Dear Disciples in Master\, \nOur Kriyaban class for October will be a Live Stream. It will be on Tuesday\, October 24th from 7:00-8:30 PM. \nIn divine friendship\,\nLake Shrine \n 
URL:https://lakeshrine.org/event/lake-shrine-kriyaban-disciples-7/
LOCATION:CA
CATEGORIES:Meditations & Inspirational Services,Other Events
END:VEVENT
BEGIN:VEVENT
DTSTART;TZID=America/Los_Angeles:20230903T123000
DTEND;TZID=America/Los_Angeles:20230903T133000
DTSTAMP:20260420T185812
CREATED:20230315T182657Z
LAST-MODIFIED:20230406T180713Z
UID:13645-1693744200-1693747800@lakeshrine.org
SUMMARY:Young Adults Meeting
DESCRIPTION:For generations 20-40 years of age.  Gatherings take place on the first Sunday of the month\, after the morning services.  Themes and topics are shared by newsletter that include other activities and announcements. Meeting held in the Temple\, Special Events Room.
URL:https://lakeshrine.org/event/young-adults-meeting/
LOCATION:CA
CATEGORIES:Other Events
END:VEVENT
BEGIN:VEVENT
DTSTART;TZID=America/Los_Angeles:20230926T190000
DTEND;TZID=America/Los_Angeles:20230926T210000
DTSTAMP:20260420T185812
CREATED:20230817T180004Z
LAST-MODIFIED:20230817T180004Z
UID:14687-1695754800-1695762000@lakeshrine.org
SUMMARY:Lake Shrine Kriyaban Disciples - CANCELLED
DESCRIPTION:All Lake Shrine Kriyabans are invited to this evening event.  Please bring your SRF Kriyaban card for admittance.  Details provided below. \nAll Lake Shrine Kriyaban disciples are invited to a monastic-led\, in-person meditation at 7 PM in the Windmill Chapel. Parking is in the Lake-level lot\, and an SRF Kriyaban card should be presented at the gate for entry.  We look forward to a deep and devotional meditation with our Guruji’s Kriyaban disciples!
URL:https://lakeshrine.org/event/lake-shrine-kriyaban-disciples-5/
LOCATION:CA
CATEGORIES:Meditations & Inspirational Services,Other Events
END:VEVENT
BEGIN:VEVENT
DTSTART;TZID=America/Los_Angeles:20230903T123000
DTEND;TZID=America/Los_Angeles:20230903T133000
DTSTAMP:20260420T185812
CREATED:20230315T182657Z
LAST-MODIFIED:20230406T180713Z
UID:13645-1693744200-1693747800@lakeshrine.org
SUMMARY:Young Adults Meeting
DESCRIPTION:For generations 20-40 years of age.  Gatherings take place on the first Sunday of the month\, after the morning services.  Themes and topics are shared by newsletter that include other activities and announcements. Meeting held in the Temple\, Special Events Room.
URL:https://lakeshrine.org/event/young-adults-meeting/
LOCATION:CA
CATEGORIES:Other Events
END:VEVENT
BEGIN:VEVENT
DTSTART;TZID=America/Los_Angeles:20230822T190000
DTEND;TZID=America/Los_Angeles:20230822T210000
DTSTAMP:20260420T185812
CREATED:20230818T184656Z
LAST-MODIFIED:20230818T184657Z
UID:14691-1692730800-1692738000@lakeshrine.org
SUMMARY:Lake Shrine Kriyaban Disciples - POSTPONED
DESCRIPTION:All Lake Shrine Kriyabans are invited to this evening event.  Please bring your SRF Kriyaban card for admittance.  Details provided below. \nAll Lake Shrine Kriyaban disciples are invited to a monastic-led\, in-person meditation at 7 PM in the Windmill Chapel. Parking is in the Lake-level lot\, and an SRF Kriyaban card should be presented at the gate for entry.  We look forward to a deep and devotional meditation with our Guruji’s Kriyaban disciples!
URL:https://lakeshrine.org/event/lake-shrine-kriyaban-disciples-6/
LOCATION:CA
CATEGORIES:Meditations & Inspirational Services,Other Events
END:VEVENT
BEGIN:VEVENT
DTSTART;TZID=America/Los_Angeles:20230806T120000
DTEND;TZID=America/Los_Angeles:20230806T130000
DTSTAMP:20260420T185812
CREATED:20230607T231649Z
LAST-MODIFIED:20230613T201053Z
UID:14319-1691323200-1691326800@lakeshrine.org
SUMMARY:Fellowship Reception
DESCRIPTION:
URL:https://lakeshrine.org/event/fellowship-reception/
LOCATION:Lake Shrine Temple\, Lake Shrine 17080 Sunset Blvd.\, Pacific Palisades\, CA\, 90272\, United States
CATEGORIES:Other Events
END:VEVENT
BEGIN:VEVENT
DTSTART;TZID=America/Los_Angeles:20230725T190000
DTEND;TZID=America/Los_Angeles:20230725T210000
DTSTAMP:20260420T185812
CREATED:20230601T214348Z
LAST-MODIFIED:20230601T214356Z
UID:14171-1690311600-1690318800@lakeshrine.org
SUMMARY:Lake Shrine Kriyaban Disciples - CANCELED
DESCRIPTION:
URL:https://lakeshrine.org/event/lake-shrine-kriyaban-disciples-4/
LOCATION:CA
CATEGORIES:Meditations & Inspirational Services,Other Events
END:VEVENT
BEGIN:VEVENT
DTSTART;VALUE=DATE:20230705
DTEND;VALUE=DATE:20230706
DTSTAMP:20260420T185812
CREATED:20230623T225217Z
LAST-MODIFIED:20230623T225810Z
UID:14600-1688515200-1688601599@lakeshrine.org
SUMMARY:Lake Shrine Closed All Day
DESCRIPTION:
URL:https://lakeshrine.org/event/lake-shrine-available-by-advanced-reservation-2-2-2/
LOCATION:CA
CATEGORIES:Other Events
END:VEVENT
END:VCALENDAR